
BEGIN:VCALENDAR
VERSION:2.0
PRODID:-//Come Out With Pride Orlando - ECPv6.7.0//NONSGML v1.0//EN
CALSCALE:GREGORIAN
METHOD:PUBLISH
X-ORIGINAL-URL:https://comeoutwithpride.org
X-WR-CALDESC:Events for Come Out With Pride Orlando
REFRESH-INTERVAL;VALUE=DURATION:PT1H
X-Robots-Tag:noindex
X-PUBLISHED-TTL:PT1H
BEGIN:VTIMEZONE
TZID:UTC
BEGIN:STANDARD
TZOFFSETFROM:+0000
TZOFFSETTO:+0000
TZNAME:UTC
DTSTART:20230101T000000
END:STANDARD
END:VTIMEZONE
BEGIN:VEVENT
DTSTART;TZID=UTC:20231010T190000
DTEND;TZID=UTC:20231010T220000
DTSTAMP:20260424T014420
CREATED:20230822T175026Z
LAST-MODIFIED:20230822T175026Z
UID:4740-1696964400-1696975200@comeoutwithpride.org
SUMMARY:Pre-Pride with Todrick Hall
DESCRIPTION:🌈 We’re SUPER excited to announce that Todrick Hall’s Velvet Rage Tour on October 10th is NOW an Official Come Out With Pride Orlando 2023 Pre-Pride Event! 💙 Don’t miss your chance to celebrate PRIDE 2023 with Todrick Hall at House of Blues Orlando – Get tickets TODAY! \nTickets sold by Live Nation
URL:https://comeoutwithpride.org/calendar/pre-pride-with-todrick-hall/
LOCATION:act
CATEGORIES:Upcoming
ATTACH;FMTTYPE=:
END:VEVENT
BEGIN:VEVENT
DTSTART;TZID=UTC:20231021T120000
DTEND;TZID=UTC:20231021T190000
DTSTAMP:20260424T014420
CREATED:20230901T193846Z
LAST-MODIFIED:20230901T193846Z
UID:9969-1697889600-1697914800@comeoutwithpride.org
SUMMARY:Youth Zone
DESCRIPTION:
URL:https://comeoutwithpride.org/calendar/youth-zone/
LOCATION:FL
END:VEVENT
BEGIN:VEVENT
DTSTART;TZID=UTC:20231021T120000
DTEND;TZID=UTC:20231021T190000
DTSTAMP:20260424T014420
CREATED:20230901T193925Z
LAST-MODIFIED:20230901T193925Z
UID:9970-1697889600-1697914800@comeoutwithpride.org
SUMMARY:Rainbow Ranch
DESCRIPTION:
URL:https://comeoutwithpride.org/calendar/rainbow-ranch/
LOCATION:FL
END:VEVENT
BEGIN:VEVENT
DTSTART;TZID=UTC:20231021T120000
DTEND;TZID=UTC:20231021T220000
DTSTAMP:20260424T014420
CREATED:20230901T194048Z
LAST-MODIFIED:20230901T194048Z
UID:5080-1697889600-1697925600@comeoutwithpride.org
SUMMARY:Pride Festival & Marketplace
DESCRIPTION:
URL:https://comeoutwithpride.org/calendar/pride-festival-marketplace/
LOCATION:FL
END:VEVENT
BEGIN:VEVENT
DTSTART;TZID=UTC:20231021T163000
DTEND;TZID=UTC:20231021T173000
DTSTAMP:20260424T014420
CREATED:20230822T175642Z
LAST-MODIFIED:20230822T175642Z
UID:4745-1697905800-1697909400@comeoutwithpride.org
SUMMARY:Most Colorful Parade
DESCRIPTION:Our parade and festival is family-friendly and welcoming to all. The Most Colorful Parade is one of the most eagerly anticipated events of Pride Week in Orlando. The parade route this year starts on Orange Ave at Washington Street. More than 100 groups of participants stroll a mile through beautiful downtown Orlando.
URL:https://comeoutwithpride.org/calendar/most-colorful-parade/
LOCATION:FL
CATEGORIES:Upcoming
ATTACH;FMTTYPE=:
END:VEVENT
BEGIN:VEVENT
DTSTART;TZID=UTC:20231021T213000
DTEND;TZID=UTC:20231021T223000
DTSTAMP:20260424T014420
CREATED:20230822T175843Z
LAST-MODIFIED:20230822T175843Z
UID:4748-1697923800-1697927400@comeoutwithpride.org
SUMMARY:Fireworks Grand Finale
DESCRIPTION:Presented by Santore\, the perfect day ends with the signature Fireworks Grand Finale over Lake Eola for all to enjoy!
URL:https://comeoutwithpride.org/calendar/fireworks-grand-finale/
LOCATION:FL
CATEGORIES:Upcoming
ATTACH;FMTTYPE=:
END:VEVENT
END:VCALENDAR