
BEGIN:VCALENDAR
VERSION:2.0
PRODID:-//Come Out With Pride Orlando - ECPv6.7.0//NONSGML v1.0//EN
CALSCALE:GREGORIAN
METHOD:PUBLISH
X-WR-CALNAME:Come Out With Pride Orlando
X-ORIGINAL-URL:https://comeoutwithpride.org
X-WR-CALDESC:Events for Come Out With Pride Orlando
REFRESH-INTERVAL;VALUE=DURATION:PT1H
X-Robots-Tag:noindex
X-PUBLISHED-TTL:PT1H
BEGIN:VTIMEZONE
TZID:America/New_York
BEGIN:DAYLIGHT
TZOFFSETFROM:-0500
TZOFFSETTO:-0400
TZNAME:EDT
DTSTART:20240310T070000
END:DAYLIGHT
BEGIN:STANDARD
TZOFFSETFROM:-0400
TZOFFSETTO:-0500
TZNAME:EST
DTSTART:20241103T060000
END:STANDARD
END:VTIMEZONE
BEGIN:VEVENT
DTSTART;TZID=America/New_York:20241117T160000
DTEND;TZID=America/New_York:20241117T180000
DTSTAMP:20260423T055633
CREATED:20241028T174021Z
LAST-MODIFIED:20241028T174805Z
UID:11897-1731859200-1731866400@comeoutwithpride.org
SUMMARY:Trans Day of Remembrance Event
DESCRIPTION:Join us on November 17th at 4pm at the Central Florida Fairgrounds for a meaningful FREE gathering in honor of Transgender Day of Remembrance (TDOR). 💜 Let’s come together as a community to remember and celebrate the lives of transgender individuals lost to violence. We will read their names and release lanterns into the sky as a symbol of love and remembrance. To participate and receive a paper lantern\, please register—one lantern per person. Together\, let’s shine a light on their legacy. \n🌟 Hosted by Come Out With Pride. Inc. & Trans and Non-Binary Task Force. \nAny questions\, please email TransTaskForce@comeoutwithpride.org \n*All minors must be accompanied by an adult for the length of the event.* \nWe are a rain or shine event.
URL:https://comeoutwithpride.org/calendar/trans-day-of-remembrance-event/
LOCATION:Central Florida Fairgrounds\, 4603 W Colonial Dr\, Orlando\, FL\, 32808
ORGANIZER;CN="Trans & Non-Binary Task Force":MAILTO:TaskForce@comeoutwithpride.org
END:VEVENT
END:VCALENDAR